BEGIN:VCALENDAR
VERSION:2.0
PRODID:-//Espace des Mondes Polaires - ECPv6.15.20//NONSGML v1.0//EN
CALSCALE:GREGORIAN
METHOD:PUBLISH
X-ORIGINAL-URL:https://www.espacedesmondespolaires.org
X-WR-CALDESC:Évènements pour Espace des Mondes Polaires
REFRESH-INTERVAL;VALUE=DURATION:PT1H
X-Robots-Tag:noindex
X-PUBLISHED-TTL:PT1H
BEGIN:VTIMEZONE
TZID:Europe/Paris
BEGIN:DAYLIGHT
TZOFFSETFROM:+0100
TZOFFSETTO:+0200
TZNAME:CEST
DTSTART:20250330T010000
END:DAYLIGHT
BEGIN:STANDARD
TZOFFSETFROM:+0200
TZOFFSETTO:+0100
TZNAME:CET
DTSTART:20251026T010000
END:STANDARD
BEGIN:DAYLIGHT
TZOFFSETFROM:+0100
TZOFFSETTO:+0200
TZNAME:CEST
DTSTART:20260329T010000
END:DAYLIGHT
BEGIN:STANDARD
TZOFFSETFROM:+0200
TZOFFSETTO:+0100
TZNAME:CET
DTSTART:20261025T010000
END:STANDARD
BEGIN:DAYLIGHT
TZOFFSETFROM:+0100
TZOFFSETTO:+0200
TZNAME:CEST
DTSTART:20270328T010000
END:DAYLIGHT
BEGIN:STANDARD
TZOFFSETFROM:+0200
TZOFFSETTO:+0100
TZNAME:CET
DTSTART:20271031T010000
END:STANDARD
END:VTIMEZONE
BEGIN:VEVENT
DTSTART;TZID=Europe/Paris:20260429T200000
DTEND;TZID=Europe/Paris:20260429T223000
DTSTAMP:20260426T001541
CREATED:20260216T143923Z
LAST-MODIFIED:20260216T143923Z
UID:10001635-1777492800-1777501800@www.espacedesmondespolaires.org
SUMMARY:Soirée nocturne à la patinoire
DESCRIPTION:Envie d’une activité fun en soirée ? En famille ou entre amis\, venez patiner le temps d’une soirée et profitez de l’ouverture exceptionnelle de la patinoire de 20h à 22h30. \n\nDe 20h à 22h30.\nEntrée selon les tarifs en vigueur. Location de patins sur place (du 22 au 50). Possibilité d’apporter ses propres patins.\nAccessible aux enfants à partir de 2 ans.\nSans réservation\, dans la limite des places disponibles.\nGants et chaussettes obligatoires.\nCasque non fourni.\n\nPlus d’informations au 03 39 50 80 20 ou via contact@espacedesmondespolaires.org. \nCrédit photo : Station des Rousses.
URL:https://www.espacedesmondespolaires.org/event/soiree-nocturne-a-la-patinoire/
LOCATION:Patinoire
ATTACH;FMTTYPE=image/jpeg:https://www.espacedesmondespolaires.org/wp-content/uploads/2025/12/392887521_creditphotoStationdesRousses.jpg
ORGANIZER;CN="Espace des Mondes Polaires":MAILTO:contact@espacedesmondespolaires.org
END:VEVENT
END:VCALENDAR