BEGIN:VCALENDAR
VERSION:2.0
PRODID:-//Espace des Mondes Polaires - ECPv6.15.20//NONSGML v1.0//EN
CALSCALE:GREGORIAN
METHOD:PUBLISH
X-ORIGINAL-URL:https://www.espacedesmondespolaires.org
X-WR-CALDESC:Évènements pour Espace des Mondes Polaires
REFRESH-INTERVAL;VALUE=DURATION:PT1H
X-Robots-Tag:noindex
X-PUBLISHED-TTL:PT1H
BEGIN:VTIMEZONE
TZID:Europe/Paris
BEGIN:DAYLIGHT
TZOFFSETFROM:+0100
TZOFFSETTO:+0200
TZNAME:CEST
DTSTART:20180325T010000
END:DAYLIGHT
BEGIN:STANDARD
TZOFFSETFROM:+0200
TZOFFSETTO:+0100
TZNAME:CET
DTSTART:20181028T010000
END:STANDARD
BEGIN:DAYLIGHT
TZOFFSETFROM:+0100
TZOFFSETTO:+0200
TZNAME:CEST
DTSTART:20190331T010000
END:DAYLIGHT
BEGIN:STANDARD
TZOFFSETFROM:+0200
TZOFFSETTO:+0100
TZNAME:CET
DTSTART:20191027T010000
END:STANDARD
BEGIN:DAYLIGHT
TZOFFSETFROM:+0100
TZOFFSETTO:+0200
TZNAME:CEST
DTSTART:20200329T010000
END:DAYLIGHT
BEGIN:STANDARD
TZOFFSETFROM:+0200
TZOFFSETTO:+0100
TZNAME:CET
DTSTART:20201025T010000
END:STANDARD
BEGIN:DAYLIGHT
TZOFFSETFROM:+0100
TZOFFSETTO:+0200
TZNAME:CEST
DTSTART:20210328T010000
END:DAYLIGHT
BEGIN:STANDARD
TZOFFSETFROM:+0200
TZOFFSETTO:+0100
TZNAME:CET
DTSTART:20211031T010000
END:STANDARD
BEGIN:DAYLIGHT
TZOFFSETFROM:+0100
TZOFFSETTO:+0200
TZNAME:CEST
DTSTART:20220327T010000
END:DAYLIGHT
BEGIN:STANDARD
TZOFFSETFROM:+0200
TZOFFSETTO:+0100
TZNAME:CET
DTSTART:20221030T010000
END:STANDARD
BEGIN:DAYLIGHT
TZOFFSETFROM:+0100
TZOFFSETTO:+0200
TZNAME:CEST
DTSTART:20230326T010000
END:DAYLIGHT
BEGIN:STANDARD
TZOFFSETFROM:+0200
TZOFFSETTO:+0100
TZNAME:CET
DTSTART:20231029T010000
END:STANDARD
BEGIN:DAYLIGHT
TZOFFSETFROM:+0100
TZOFFSETTO:+0200
TZNAME:CEST
DTSTART:20240331T010000
END:DAYLIGHT
BEGIN:STANDARD
TZOFFSETFROM:+0200
TZOFFSETTO:+0100
TZNAME:CET
DTSTART:20241027T010000
END:STANDARD
BEGIN:DAYLIGHT
TZOFFSETFROM:+0100
TZOFFSETTO:+0200
TZNAME:CEST
DTSTART:20250330T010000
END:DAYLIGHT
BEGIN:STANDARD
TZOFFSETFROM:+0200
TZOFFSETTO:+0100
TZNAME:CET
DTSTART:20251026T010000
END:STANDARD
BEGIN:DAYLIGHT
TZOFFSETFROM:+0100
TZOFFSETTO:+0200
TZNAME:CEST
DTSTART:20260329T010000
END:DAYLIGHT
BEGIN:STANDARD
TZOFFSETFROM:+0200
TZOFFSETTO:+0100
TZNAME:CET
DTSTART:20261025T010000
END:STANDARD
END:VTIMEZONE
BEGIN:VEVENT
DTSTART;VALUE=DATE:20250705
DTEND;VALUE=DATE:20250707
DTSTAMP:20260419T144956
CREATED:20250605T093327Z
LAST-MODIFIED:20250612T131737Z
UID:10001241-1751673600-1751846399@www.espacedesmondespolaires.org
SUMMARY:Week-end "Paul-Émile Victor\, courriers du bout du monde"
DESCRIPTION:Paul-Émile Victor sera mis à l’honneur le week-end des 5 et 6 juillet 2025 avec l’association Union Française de Philatélie Polaire – SATA. \nTout au long du week-end\, de 10h à 12h30 et de 14h à 18h : sortie d’un timbre commémorant Paul-Émile Victor\, stand d’initiation à la philatélie polaire\, bureau de Poste éphémère. \nLe samedi + le dimanche à 14h30 : visites flash de la nouvelle exposition temporaire Passions polaires\, Quand les rêves mènent aux pôles avec la commissaire de l’exposition (compris dans le billet d’entrée au musée). \nLe dimanche à 16h : projection du film de Stéphane Dugast « Paul-Émile Victor\, j’ai horreur du froid » (Ekla production – 2019\, 52 minutes)\, en présence de Daphné Victor (entrée libre dans la limite des places disponibles). \nPlus d’informations au 03 39 50 80 20 ou via contact@espacedesmondespolaires.org \n\n\nIllustration : Jasmine Colin-Navaï – www.jooona.fr
URL:https://www.espacedesmondespolaires.org/event/week-end-timbre-avec-lufpp-sata/
LOCATION:Salle polyvalente
CATEGORIES:Animation,Projection
ATTACH;FMTTYPE=image/png:https://www.espacedesmondespolaires.org/wp-content/uploads/2025/06/TimbreA.png
ORGANIZER;CN="Espace des Mondes Polaires":MAILTO:contact@espacedesmondespolaires.org
END:VEVENT
BEGIN:VEVENT
DTSTART;TZID=Europe/Paris:20241213T180000
DTEND;TZID=Europe/Paris:20241213T223000
DTSTAMP:20260419T144956
CREATED:20241024T150717Z
LAST-MODIFIED:20241203T124505Z
UID:10000896-1734112800-1734129000@www.espacedesmondespolaires.org
SUMMARY:Présentation de la saison 2025
DESCRIPTION:Le 13 décembre 2024 à partir de 18h\, l’Espace des Mondes Polaires Paul-Émile Victor vous invite à sa soirée de présentation de la nouvelle saison. \nCette soirée se déroulera autour de plusieurs temps forts :\n– À partir de 18h\, ouverture des portes et découverte de la nouvelle exposition au musée\n– À 18h30\, inauguration de l’exposition temporaire “CONTER LE VIVANT\, récit d’un informaticien en Terres australes françaises” du photographe William Boffy (association Low Production)\n– À 19h\, nous vous dévoilerons notre programmation pour l’année 2025\n– À 19h30\, conférence de Arthur Keller “Et maintenant\, on fait quoi ? Comprendre les dynamiques derrière les crises écologiques et sociétales afin d’ajuster nos actes”\n– À 22h\, moment de convivialité. \nEntrée libre dans la limite des places disponibles. Tout public dès 10 ans. \nPlus d’informations au 03 39 50 80 20 ou via contact@espacedesmondespolaires.org \nCrédits photos : Arthur Keller et William Boffy
URL:https://www.espacedesmondespolaires.org/event/presentation-de-la-saison-2025/
LOCATION:Salle polyvalente
CATEGORIES:Animation,Conférence,Exposition temporaire
ATTACH;FMTTYPE=image/jpeg:https://www.espacedesmondespolaires.org/wp-content/uploads/2024/10/ArthurKeller_WilliamBoffy.jpg
ORGANIZER;CN="Espace des Mondes Polaires":MAILTO:contact@espacedesmondespolaires.org
END:VEVENT
BEGIN:VEVENT
DTSTART;TZID=Europe/Paris:20231221T174500
DTEND;TZID=Europe/Paris:20231221T210000
DTSTAMP:20260419T144956
CREATED:20230928T093721Z
LAST-MODIFIED:20231220T082732Z
UID:10000648-1703180700-1703192400@www.espacedesmondespolaires.org
SUMMARY:Présentation de la saison 2024
DESCRIPTION:  \nLe 21 décembre 2023\, à partir de 17h45\, l’Espace des Mondes Polaires vous invite à sa soirée de présentation de la saison. \nCette soirée se déroulera autour de plusieurs temps forts :  \n– À partir de 17h45\, entrée musicale avec l’Union instrumentale de Bois d’Amont.  \n– À 18h30\, découverte de la nouvelle exposition temporaire collective « QAJAQ – Le kayak groenlandais au fil de l’eau et du temps »\, en présence d’Éric Chazal\, guide de kayak polaire.  \n– À 19h\, Eric Chazal présentera une projection de courts métrages sur le kayak au Groenland\, suivie d’un échange.\nLe kayak de mer est l’embarcation traditionnellement utilisée par les peuples autochtones du Grand Nord pour la survie de la communauté via la chasse et la pêche. Éric Chazal décrit dans ses films la vie quotidienne des habitants de la côte ouest du Groenland\, qui utilisent encore le kayak. \n – À 20h\, nous vous dévoilerons notre programmation pour l’année 2024.\n \nLa présentation de la saison sera suivie d’un verre de l’amitié. \nEntrée libre dans la limite des places disponibles. Tout public dès 10 ans. \nPlus d’informations au 03 39 50 80 20 ou via contact@espacedesmondespolaires.org \n©Eric chazal évaluation
URL:https://www.espacedesmondespolaires.org/event/presentation-de-la-saison-2024/
LOCATION:Salle polyvalente
CATEGORIES:Animation,Projection
ATTACH;FMTTYPE=image/png:https://www.espacedesmondespolaires.org/wp-content/uploads/2023/09/Eric-Chazal-1-e1655805836198-1500x580-1.png
ORGANIZER;CN="Espace des Mondes Polaires":MAILTO:contact@espacedesmondespolaires.org
END:VEVENT
BEGIN:VEVENT
DTSTART;TZID=Europe/Paris:20230423T143000
DTEND;TZID=Europe/Paris:20230423T163000
DTSTAMP:20260419T144956
CREATED:20230214T151113Z
LAST-MODIFIED:20230405T145516Z
UID:10000627-1682260200-1682267400@www.espacedesmondespolaires.org
SUMMARY:Concert polaire
DESCRIPTION:L’orchestre symphonique universitaire de Besançon Franche-Comté vous propose un récital polaire sous la direction de Loïc Sébile. Les musiciens navigueront du répertoire classique aux musiques de films.\nEntrée libre. \nRenseignements par téléphone au 03 39 50 80 20 ou par e-mail via contact@espacedesmondespolaires.org.
URL:https://www.espacedesmondespolaires.org/event/concert-polaire/
LOCATION:Salle polyvalente
CATEGORIES:Spectacle
ATTACH;FMTTYPE=image/jpeg:https://www.espacedesmondespolaires.org/wp-content/uploads/2023/02/orchestre-universitaire-Besancon-copyrightRemiMeyer-scaled.jpg
ORGANIZER;CN="Espace des Mondes Polaires":MAILTO:contact@espacedesmondespolaires.org
END:VEVENT
BEGIN:VEVENT
DTSTART;TZID=Europe/Paris:20230405T200000
DTEND;TZID=Europe/Paris:20230405T213000
DTSTAMP:20260419T144956
CREATED:20230301T153713Z
LAST-MODIFIED:20230310T160336Z
UID:10000628-1680724800-1680730200@www.espacedesmondespolaires.org
SUMMARY:Projection : "Climat : Mon cerveau fait l’autruche" (2021) de Raphaël HITIER
DESCRIPTION:Dans le cadre du Festival du Film Vert\, le film « Climat : Mon cerveau fait l’autruche » (2021\, 52 min) de Raphaël HITIER sera projeté à la salle polyvalente. \n\n\n\n\n\nLes scientifiques sont unanimes : la catastrophe climatique est imminente mais elle est évitable ! Et nous ne réagissons toujours pas. Comment expliquer cette inertie devant l’urgence ? Serions-nous programmés pour faire l’autruche devant la menace ? Et si le fonctionnement même de notre cerveau nous détournait des bonnes décisions à prendre ? Les dernières avancées en neuroscience\, psychologie comportementale ou anthropologie éclairent les contradictions et les peurs qui nous habitent quand il s’agit de changer nos habitudes de vie. \nLa projection sera suivie d’une discussion avec Lorenz LEIMGRUBER et Françoise GUYARD. \nLorenz LEIMBRUGER : « Après plusieurs années en recherche et développement dans l’industrie\, Lorenz a été forcé d’admettre que sa vie manquait de sens. Quoi de plus logique dans le fond\,\ndans un monde qui court à sa perte… Vers quel nouvel idéal devrions-nous tendre ? C’est en souhaitant répondre à cette question que Lorenz a décidé de ne plus participer au réchauffement climatique (il émet 2 tCO2éq/an)\, et prouve à travers son nouveau mode de vie\, qu’il est possible de concilier Sobriété et Bonheur ». \nFrançoise GUYARD : « Après avoir travaillé plus de 20 ans dans les Ressources Humaines et experte en conduite du changement\, Françoise anime des Fresques du climat et s’interroge sur ce qui freine autant la population à changer ses habitudes. Cette sobriété « imposée » n’est-elle pas une entrave à la liberté individuelle ? Est-ce donc pour ne pas avoir à renoncer cette liberté que les individus font l’autruche ? » \nEntrée libre. \nRenseignements par téléphone au 03 39 50 80 20 ou par e-mail via contact@espacedesmondespolaires.org.
URL:https://www.espacedesmondespolaires.org/event/projection-climat-mon-cerveau-fait-lautruche-2021-de-raphael-hitier/
LOCATION:Salle polyvalente
CATEGORIES:Projection
ATTACH;FMTTYPE=image/png:https://www.espacedesmondespolaires.org/wp-content/uploads/2023/03/FestivalduFilmVert-5avril2023.png
ORGANIZER;CN="Espace des Mondes Polaires":MAILTO:contact@espacedesmondespolaires.org
END:VEVENT
BEGIN:VEVENT
DTSTART;TZID=Europe/Paris:20221209T193000
DTEND;TZID=Europe/Paris:20221209T220000
DTSTAMP:20260419T144957
CREATED:20221123T113505Z
LAST-MODIFIED:20221123T113505Z
UID:10000601-1670614200-1670623200@www.espacedesmondespolaires.org
SUMMARY:Présentation de la saison 2023
DESCRIPTION:Chaque année l’Espace des Mondes Polaires vous invite à sa soirée de présentation de saison culturelle. \nLe 9 décembre 2022\, à partir de 19h30\, l’Espace des Mondes Polaires dévoile sa programmation culturelle pour l’année 2023. Pour cette occasion\, le réalisateur Mathieu Le Lay présentera son film documentaire « Yukon\, un rêve blanc » : la quête d’un photographe animalier\, Jérémie Villet\, dans les montagnes hivernales du Yukon\, qui rêve de photographier la chèvre des montagnes\, un animal difficile à observer. \nLa projection sera suivie d’un échange avec le réalisateur puis d’un verre de l’amitié. \n \nEntrée libre dans la limite des places disponibles. Tout public. \nPlus d’informations au 03 39 50 80 20 ou via contact@espacedesmondespolaires.org
URL:https://www.espacedesmondespolaires.org/event/presentation-de-la-saison-2023/
LOCATION:Salle polyvalente
CATEGORIES:Animation,Projection
ATTACH;FMTTYPE=image/jpeg:https://www.espacedesmondespolaires.org/wp-content/uploads/2022/11/Lancementdesaison2022.jpg
ORGANIZER;CN="Espace des Mondes Polaires":MAILTO:contact@espacedesmondespolaires.org
END:VEVENT
BEGIN:VEVENT
DTSTART;TZID=Europe/Paris:20191220T193000
DTEND;TZID=Europe/Paris:20191220T220000
DTSTAMP:20260419T144957
CREATED:20191109T142724Z
LAST-MODIFIED:20191110T143543Z
UID:10000116-1576870200-1576879200@www.espacedesmondespolaires.org
SUMMARY:Objectif Pôle Sud
DESCRIPTION:Envie de dépaysement pour l’année 2020 ?\nVenez assister au lancement de la saison culturelle 2020 de l’Espace des mondes Polaires à Prémanon. Cette soirée lève le voile sur la programmation 2020\, centrée sur l’exposition temporaire « Apoutsiak\, Paul-Émile Victor ethnologue »\, des animations à la patinoire et des temps forts consacrés à l’explorateur jurassien Paul-Émile Victor\, disparu il y a tout juste 25 ans. La boutique de Noël et la billetterie seront accessibles pour acheter un abonnement à l’Espace des Mondes Polaires ou faire plaisir à un proche. \nEn compagnie de Matthieu Tordeur\, plus jeune explorateur à avoir rejoint le Pôle Sud à ski… \nAu programme\nVendredi 20 décembre 2019 – 19h30 \nEspace des mondes Polaires de Prémanon – Salle polyvalente \n\nPrésentation de la programmation 2020\,\nProjection du film « Objectif Pôle Sud » (52 min)\,\nMoment convivial autour d’un pot à l’issue de la présentation\,\nExposition « L’eau : paysages et ressource » par le Collège des Rousses\,\nAccès libre et gratuit à la patinoire de 21h à 22h.\n\nEntrée libre et gratuite\, dans la limite des places disponibles. \nObjectif Pôle Sud\nEn janvier 2019\, le français Matthieu Tordeur atteint le Pôle sud géographique à ski\, après plusieurs semaines d’effort. Il est à ce jour le plus jeune explorateur à réaliser cet exploit… \nAprès une présentation de son film\, Matthieu Tordeur répondra aux questions et sera présent lors du verre de l’amitié suivant la projection.
URL:https://www.espacedesmondespolaires.org/event/objectif-pole-sud/
LOCATION:Salle polyvalente
CATEGORIES:Projection
ATTACH;FMTTYPE=image/jpeg:https://www.espacedesmondespolaires.org/wp-content/uploads/2019/11/MT2.jpg
ORGANIZER;CN="Espace des Mondes Polaires":MAILTO:contact@espacedesmondespolaires.org
END:VEVENT
END:VCALENDAR