BEGIN:VCALENDAR
VERSION:2.0
PRODID:-//Espace des Mondes Polaires - ECPv6.15.20//NONSGML v1.0//EN
CALSCALE:GREGORIAN
METHOD:PUBLISH
X-ORIGINAL-URL:https://www.espacedesmondespolaires.org
X-WR-CALDESC:Évènements pour Espace des Mondes Polaires
REFRESH-INTERVAL;VALUE=DURATION:PT1H
X-Robots-Tag:noindex
X-PUBLISHED-TTL:PT1H
BEGIN:VTIMEZONE
TZID:Europe/Paris
BEGIN:DAYLIGHT
TZOFFSETFROM:+0100
TZOFFSETTO:+0200
TZNAME:CEST
DTSTART:20240331T010000
END:DAYLIGHT
BEGIN:STANDARD
TZOFFSETFROM:+0200
TZOFFSETTO:+0100
TZNAME:CET
DTSTART:20241027T010000
END:STANDARD
BEGIN:DAYLIGHT
TZOFFSETFROM:+0100
TZOFFSETTO:+0200
TZNAME:CEST
DTSTART:20250330T010000
END:DAYLIGHT
BEGIN:STANDARD
TZOFFSETFROM:+0200
TZOFFSETTO:+0100
TZNAME:CET
DTSTART:20251026T010000
END:STANDARD
BEGIN:DAYLIGHT
TZOFFSETFROM:+0100
TZOFFSETTO:+0200
TZNAME:CEST
DTSTART:20260329T010000
END:DAYLIGHT
BEGIN:STANDARD
TZOFFSETFROM:+0200
TZOFFSETTO:+0100
TZNAME:CET
DTSTART:20261025T010000
END:STANDARD
END:VTIMEZONE
BEGIN:VEVENT
DTSTART;TZID=Europe/Paris:20250220T190000
DTEND;TZID=Europe/Paris:20250220T203000
DTSTAMP:20260423T074624
CREATED:20250108T165443Z
LAST-MODIFIED:20250108T165443Z
UID:10000980-1740078000-1740083400@www.espacedesmondespolaires.org
SUMMARY:Conférence "A la découverte des tourbières et lacs de la montagne jurassienne" par Pierre Durlet
DESCRIPTION:Même si leurs surfaces sont modestes\, les lacs et les tourbières marquent le paysage des montagnes du Jura.\nUne conférence pour mieux comprendre leur écologie\, leur histoire et les enjeux sous nos latitudes\, mais également de voir s’ils sont aussi semblables aux milieux boréaux avec qui on les compare souvent. \nPierre Durlet est spécialiste des tourbières au Parc naturel régional du Haut-Jura. \nConférence réalisée dans le cadre des Journées Mondiales des Zones humides. \nDurée : 1h30 \nPlus d’informations au 03 39 50 80 20 ou via contact@espacedesmondespolaires.org \nCrédit photo : ©Julien Lieb
URL:https://www.espacedesmondespolaires.org/event/conference-a-la-decouverte-des-tourbieres-et-lacs-de-la-montagne-jurassienne-par-pierre-durlet/
LOCATION:Auditorium
CATEGORIES:Conférence
ATTACH;FMTTYPE=image/jpeg:https://www.espacedesmondespolaires.org/wp-content/uploads/2025/01/zoneshumides©JulienLieb-scaled.jpg
ORGANIZER;CN="Espace des Mondes Polaires":MAILTO:contact@espacedesmondespolaires.org
END:VEVENT
END:VCALENDAR